BEGIN:VCALENDAR
VERSION:2.0
PRODID:-//Antony Woodland Garden – Stunning woodland walks in Cornwall - ECPv6.15.20//NONSGML v1.0//EN
CALSCALE:GREGORIAN
METHOD:PUBLISH
X-ORIGINAL-URL:https://antonywoodlandgarden.com
X-WR-CALDESC:Events for Antony Woodland Garden – Stunning woodland walks in Cornwall
REFRESH-INTERVAL;VALUE=DURATION:PT1H
X-Robots-Tag:noindex
X-PUBLISHED-TTL:PT1H
BEGIN:VTIMEZONE
TZID:Europe/London
BEGIN:DAYLIGHT
TZOFFSETFROM:+0000
TZOFFSETTO:+0100
TZNAME:BST
DTSTART:20240331T010000
END:DAYLIGHT
BEGIN:STANDARD
TZOFFSETFROM:+0100
TZOFFSETTO:+0000
TZNAME:GMT
DTSTART:20241027T010000
END:STANDARD
BEGIN:DAYLIGHT
TZOFFSETFROM:+0000
TZOFFSETTO:+0100
TZNAME:BST
DTSTART:20250330T010000
END:DAYLIGHT
BEGIN:STANDARD
TZOFFSETFROM:+0100
TZOFFSETTO:+0000
TZNAME:GMT
DTSTART:20251026T010000
END:STANDARD
BEGIN:DAYLIGHT
TZOFFSETFROM:+0000
TZOFFSETTO:+0100
TZNAME:BST
DTSTART:20260329T010000
END:DAYLIGHT
BEGIN:STANDARD
TZOFFSETFROM:+0100
TZOFFSETTO:+0000
TZNAME:GMT
DTSTART:20261025T010000
END:STANDARD
END:VTIMEZONE
BEGIN:VEVENT
DTSTART;TZID=Europe/London:20251010T103000
DTEND;TZID=Europe/London:20251010T170000
DTSTAMP:20260421T133100
CREATED:20250909T094416Z
LAST-MODIFIED:20250909T110354Z
UID:10197-1760092200-1760115600@antonywoodlandgarden.com
SUMMARY:National Garden Scheme – Open Day – Friday 10th October 2025
DESCRIPTION:Embrace Autumn’s Embrace at Antony Woodland Garden: A National Garden Scheme Open Day \nAutumn at Antony Woodland Garden is a sight to behold!\nAntony Woodland Garden in Cornwall invites you to a special Open Day in support of the National Garden Scheme (NGS). Join us for a day of natural beauty and charitable giving as we celebrate the changing seasons! \nDate: Friday\, October 10th \nTime: 10:30 AM – 5:00 PM \nLocation: Antony Woodland Garden\, Torpoint\, Cornwall PL11 2QA \nWhy You Should Visit: \nExperience the magic of autumn as Antony Woodland Garden transforms into a tapestry of golden hues. Witness the breathtaking spectacle of the trees ablaze with colour\, creating a truly unforgettable experience. This is a perfect opportunity to support a worthy cause while immersing yourself in the beauty of nature. \nHighlights of the Day: \n\nVibrant Autumnal Colours: Witness the stunning transformation of the woodland as the trees display their glorious autumn colours.\nExplore a Hidden Gem: Discover the 100-acre Antony Woodland Garden\, a haven of serenity and natural beauty.\nMagnificent Plant Collections: Admire the “International Camellia Garden of Excellence” and the National Collection of Camellia japonica. Explore the diverse collection of nearly 250 magnolia varieties\, hydrangeas\, rhododendrons\, and more.\nScenic Walks: Enjoy peaceful walks along the river’s edge\, discover contemporary sculptures\, and wander through carpets of wildflowers.\nFamily Fun: Antony Woodland Garden is a perfect place for children to explore and enjoy a day out.\n\nTickets: \n\nAdults: £10\nChildren: Free\n\nTickets are available to pre-book online here or purchase at the gate. Cash taken at the gate. Additional donations to NGS are warmly welcomed. All proceeds go directly to the charity. \nDelicious Refreshments: \nIndulge in delightful treats from Bloom & Brew\, who will be serving: \n\nGreat coffee\nHot chocolate\nTea\nRefreshing cold drinks\nDelicious homemade cakes\n\nImportant Information: \n\nPicnics: Plenty of outside space is available for enjoying your own picnic.\nDogs: Well-behaved dogs are welcome on the Woodland Walk.\nAccessibility: Please note that some paths may be uneven. Please contact us if you have specific accessibility requirements.\n\nAbout Antony Woodland Garden: \nJust a short ferry ride from Plymouth\, Antony Woodland Garden offers a unique experience for everyone. Whether you are a seasoned plantsman\, a family looking for a day out\, or simply seeking a peaceful retreat\, you’ll find something to cherish. Discover beautiful walks\, stunning plant collections\, and a sense of tranquillity that will leave you refreshed. \nLearn More: \nFor more information about Antony Woodland Garden\, please visit www.antonywoodlandgarden.com \n\n\n 
URL:https://antonywoodlandgarden.com/events/national-garden-scheme-open-day-friday-10th-october-2025/
LOCATION:Antony Woodland Garden\, Ferry Lane\, Torpoint\, Plymouth\, Cornwall\, PL11 2QA\, United Kingdom
CATEGORIES:Antony Woodland Gardens,Woodland Walks,Guided Walks,Open Day,National Garden Scheme
ATTACH;FMTTYPE=image/jpeg:https://antonywoodlandgarden.com/wp-content/uploads/2012/01/Autumn-Wallpapers-7.jpg
END:VEVENT
END:VCALENDAR